BEGIN:VCALENDAR
VERSION:2.0
PRODID:-//Ford Amphitheater - ECPv6.15.20//NONSGML v1.0//EN
CALSCALE:GREGORIAN
METHOD:PUBLISH
X-ORIGINAL-URL:https://www.fordamphitheater.live
X-WR-CALDESC:Events for Ford Amphitheater
REFRESH-INTERVAL;VALUE=DURATION:PT1H
X-Robots-Tag:noindex
X-PUBLISHED-TTL:PT1H
BEGIN:VTIMEZONE
TZID:America/Denver
BEGIN:DAYLIGHT
TZOFFSETFROM:-0700
TZOFFSETTO:-0600
TZNAME:MDT
DTSTART:20240310T090000
END:DAYLIGHT
BEGIN:STANDARD
TZOFFSETFROM:-0600
TZOFFSETTO:-0700
TZNAME:MST
DTSTART:20241103T080000
END:STANDARD
BEGIN:DAYLIGHT
TZOFFSETFROM:-0700
TZOFFSETTO:-0600
TZNAME:MDT
DTSTART:20250309T090000
END:DAYLIGHT
BEGIN:STANDARD
TZOFFSETFROM:-0600
TZOFFSETTO:-0700
TZNAME:MST
DTSTART:20251102T080000
END:STANDARD
BEGIN:DAYLIGHT
TZOFFSETFROM:-0700
TZOFFSETTO:-0600
TZNAME:MDT
DTSTART:20260308T090000
END:DAYLIGHT
BEGIN:STANDARD
TZOFFSETFROM:-0600
TZOFFSETTO:-0700
TZNAME:MST
DTSTART:20261101T080000
END:STANDARD
BEGIN:DAYLIGHT
TZOFFSETFROM:-0700
TZOFFSETTO:-0600
TZNAME:MDT
DTSTART:20270314T090000
END:DAYLIGHT
BEGIN:STANDARD
TZOFFSETFROM:-0600
TZOFFSETTO:-0700
TZNAME:MST
DTSTART:20271107T080000
END:STANDARD
END:VTIMEZONE
BEGIN:VEVENT
DTSTART;TZID=America/Denver:20250604T193000
DTEND;TZID=America/Denver:20250604T193000
DTSTAMP:20260423T141749
CREATED:20250416T103212Z
LAST-MODIFIED:20250603T002312Z
UID:10000119-1749065400-1749065400@www.fordamphitheater.live
SUMMARY:Ryan Bingham and The Texas Gentlemen
DESCRIPTION:
URL:https://www.fordamphitheater.live/event/ryan-bingham-and-the-texas-gentlemen/
LOCATION:Ford Amphitheater\, 95 Spectrum Lp\, Colorado Springs\, Colorado\, 80921\, United States
ATTACH;FMTTYPE=image/jpeg:https://www.fordamphitheater.live/wp-content/uploads/2025/04/ryan-bingham-and-the-texas-gentlemen-tickets_06-04-25_86_67c63deaa8cc5.jpg
END:VEVENT
BEGIN:VEVENT
DTSTART;TZID=America/Denver:20250613T183000
DTEND;TZID=America/Denver:20250613T183000
DTSTAMP:20260423T141749
CREATED:20250416T103212Z
LAST-MODIFIED:20250609T223507Z
UID:10000120-1749839400-1749839400@www.fordamphitheater.live
SUMMARY:Three 6 Mafia & Yelawolf
DESCRIPTION:
URL:https://www.fordamphitheater.live/event/three-6-mafia-yelawolf/
LOCATION:Ford Amphitheater\, 95 Spectrum Lp\, Colorado Springs\, Colorado\, 80921\, United States
ATTACH;FMTTYPE=image/jpeg:https://www.fordamphitheater.live/wp-content/uploads/2025/04/three-6-mafia-yelawolf-tickets_06-13-25_86_67ed6317160e7.jpg
END:VEVENT
BEGIN:VEVENT
DTSTART;TZID=America/Denver:20250620T190000
DTEND;TZID=America/Denver:20250620T190000
DTSTAMP:20260423T141749
CREATED:20250416T103212Z
LAST-MODIFIED:20250603T002312Z
UID:10000121-1750446000-1750446000@www.fordamphitheater.live
SUMMARY:Old Dominion
DESCRIPTION:Ticket prices may fluctuate\, at any time\, based on demand. All tickets are AXS Mobile ID method of delivery only; Any orders exceeding the ticket limits (8) are subject to cancellation without notice.
URL:https://www.fordamphitheater.live/event/old-dominion/
LOCATION:Ford Amphitheater\, 95 Spectrum Lp\, Colorado Springs\, Colorado\, 80921\, United States
ATTACH;FMTTYPE=image/jpeg:https://www.fordamphitheater.live/wp-content/uploads/2025/04/old-dominion-tickets_06-20-25_86_67b517402924d.jpg
END:VEVENT
BEGIN:VEVENT
DTSTART;TZID=America/Denver:20250627T193000
DTEND;TZID=America/Denver:20250627T193000
DTSTAMP:20260423T141749
CREATED:20250416T103212Z
LAST-MODIFIED:20250624T150432Z
UID:10000122-1751052600-1751052600@www.fordamphitheater.live
SUMMARY:Dirty Heads
DESCRIPTION:
URL:https://www.fordamphitheater.live/event/dirty-heads/
LOCATION:Ford Amphitheater\, 95 Spectrum Lp\, Colorado Springs\, Colorado\, 80921\, United States
ATTACH;FMTTYPE=image/jpeg:https://www.fordamphitheater.live/wp-content/uploads/2025/04/dirty-heads-tickets_06-27-25_86_682ba3d315855.jpg
END:VEVENT
BEGIN:VEVENT
DTSTART;TZID=America/Denver:20250704T183000
DTEND;TZID=America/Denver:20250704T183000
DTSTAMP:20260423T141749
CREATED:20250603T150135Z
LAST-MODIFIED:20250703T203708Z
UID:10000138-1751653800-1751653800@www.fordamphitheater.live
SUMMARY:Star Spangled Symphony & Fourth of July Fireworks
DESCRIPTION:The fireworks display will launch from the west side of the amphitheater\, behind the stage. For the best sound and music experience\, choose seats near the front. For the best view of the fireworks\, opt for seats toward the back or the lawn
URL:https://www.fordamphitheater.live/event/star-spangled-symphony-fourth-of-july-fireworks/
LOCATION:Ford Amphitheater\, 95 Spectrum Lp\, Colorado Springs\, Colorado\, 80921\, United States
ATTACH;FMTTYPE=image/jpeg:https://www.fordamphitheater.live/wp-content/uploads/2025/06/star-spangled-symphony-fourth-of-july-fireworks-tickets_07-04-25_86_683e297d366d7.jpg
END:VEVENT
BEGIN:VEVENT
DTSTART;TZID=America/Denver:20250723T193000
DTEND;TZID=America/Denver:20250723T193000
DTSTAMP:20260423T141749
CREATED:20250421T004927Z
LAST-MODIFIED:20250721T162137Z
UID:10000124-1753299000-1753299000@www.fordamphitheater.live
SUMMARY:CAKE
DESCRIPTION:TRANFSFER DELAY \nFans may begin to transfer tickets 2 weeks prior to event
URL:https://www.fordamphitheater.live/event/cake/
LOCATION:Ford Amphitheater\, 95 Spectrum Lp\, Colorado Springs\, Colorado\, 80921\, United States
ATTACH;FMTTYPE=image/jpeg:https://www.fordamphitheater.live/wp-content/uploads/2025/04/cake-tickets_07-23-25_86_67a68a8bce471.jpg
END:VEVENT
BEGIN:VEVENT
DTSTART;TZID=America/Denver:20250726T200000
DTEND;TZID=America/Denver:20250726T200000
DTSTAMP:20260423T141749
CREATED:20250421T004928Z
LAST-MODIFIED:20250721T162137Z
UID:10000125-1753560000-1753560000@www.fordamphitheater.live
SUMMARY:Beck with the Colorado Symphony
DESCRIPTION:
URL:https://www.fordamphitheater.live/event/beck-with-the-colorado-symphony/
LOCATION:Ford Amphitheater\, 95 Spectrum Lp\, Colorado Springs\, Colorado\, 80921\, United States
ATTACH;FMTTYPE=image/jpeg:https://www.fordamphitheater.live/wp-content/uploads/2025/04/beck-with-the-colorado-symphony-tickets_07-26-25_86_67c50ecae3acf.jpg
END:VEVENT
BEGIN:VEVENT
DTSTART;TZID=America/Denver:20250807T193000
DTEND;TZID=America/Denver:20250807T193000
DTSTAMP:20260423T141749
CREATED:20250421T004929Z
LAST-MODIFIED:20250804T160304Z
UID:10000126-1754595000-1754595000@www.fordamphitheater.live
SUMMARY:Glass Animals
DESCRIPTION:
URL:https://www.fordamphitheater.live/event/glass-animals/
LOCATION:Ford Amphitheater\, 95 Spectrum Lp\, Colorado Springs\, Colorado\, 80921\, United States
ATTACH;FMTTYPE=image/jpeg:https://www.fordamphitheater.live/wp-content/uploads/2025/04/glass-animals-tickets_08-07-25_86_67d4a925ce416.jpg
END:VEVENT
BEGIN:VEVENT
DTSTART;TZID=America/Denver:20250808T190000
DTEND;TZID=America/Denver:20250808T190000
DTSTAMP:20260423T141749
CREATED:20250421T004931Z
LAST-MODIFIED:20250804T160304Z
UID:10000127-1754679600-1754679600@www.fordamphitheater.live
SUMMARY:King Gizzard & the Lizard Wizard
DESCRIPTION:TRANSFER DELAY: Fans may begin to transfer tickets 2 weeks prior event \n\nTICKET LIMIT: There is a 4 ticket limit per household. Orders exceeding this limit may be cancelled without notification
URL:https://www.fordamphitheater.live/event/king-gizzard-the-lizard-wizard/
LOCATION:Ford Amphitheater\, 95 Spectrum Lp\, Colorado Springs\, Colorado\, 80921\, United States
ATTACH;FMTTYPE=image/jpeg:https://www.fordamphitheater.live/wp-content/uploads/2025/04/king-gizzard-the-lizard-wizard-tickets_08-08-25_86_67201d9968b2d.jpg
END:VEVENT
BEGIN:VEVENT
DTSTART;TZID=America/Denver:20250810T173000
DTEND;TZID=America/Denver:20250810T173000
DTSTAMP:20260423T141749
CREATED:20250421T004932Z
LAST-MODIFIED:20250804T160304Z
UID:10000128-1754847000-1754847000@www.fordamphitheater.live
SUMMARY:Slightly Stoopid
DESCRIPTION:Slightly Stoopid has partnered with PLUS1 so that a portion of ticket sales benefit the Life Rolls On Foundation to promote adaptive surfing\, skateboarding\, and fishing to people living with various disabilities.
URL:https://www.fordamphitheater.live/event/slightly-stoopid/
LOCATION:Ford Amphitheater\, 95 Spectrum Lp\, Colorado Springs\, Colorado\, 80921\, United States
ATTACH;FMTTYPE=image/jpeg:https://www.fordamphitheater.live/wp-content/uploads/2025/04/cca9cfd1d9f31314465c7ac09e39ce2c3a2c53fbf934ad75ad3afb396b76e08d-rimg-w1200-h628-dc041936-gmir.jpg
END:VEVENT
BEGIN:VEVENT
DTSTART;TZID=America/Denver:20250816T193000
DTEND;TZID=America/Denver:20250816T193000
DTSTAMP:20260423T141749
CREATED:20250421T004932Z
LAST-MODIFIED:20250804T160304Z
UID:10000129-1755372600-1755372600@www.fordamphitheater.live
SUMMARY:Billy Currington
DESCRIPTION:The lawn is closed for this event.
URL:https://www.fordamphitheater.live/event/billy-currington/
LOCATION:Ford Amphitheater\, 95 Spectrum Lp\, Colorado Springs\, Colorado\, 80921\, United States
ATTACH;FMTTYPE=image/jpeg:https://www.fordamphitheater.live/wp-content/uploads/2025/04/billy-currington-tickets_08-16-25_86_67ea97cb61637.jpg
END:VEVENT
BEGIN:VEVENT
DTSTART;TZID=America/Denver:20250819T180000
DTEND;TZID=America/Denver:20250819T180000
DTSTAMP:20260423T141749
CREATED:20250421T004933Z
LAST-MODIFIED:20250703T203708Z
UID:10000130-1755626400-1755626400@www.fordamphitheater.live
SUMMARY:311
DESCRIPTION:
URL:https://www.fordamphitheater.live/event/311/
LOCATION:Ford Amphitheater\, 95 Spectrum Lp\, Colorado Springs\, Colorado\, 80921\, United States
ATTACH;FMTTYPE=image/jpeg:https://www.fordamphitheater.live/wp-content/uploads/2025/04/311-tickets_08-19-25_86_67d8a37726880.jpg
END:VEVENT
BEGIN:VEVENT
DTSTART;TZID=America/Denver:20250822T200000
DTEND;TZID=America/Denver:20250822T200000
DTSTAMP:20260423T141749
CREATED:20250421T004934Z
LAST-MODIFIED:20250804T160304Z
UID:10000131-1755892800-1755892800@www.fordamphitheater.live
SUMMARY:Gavin Adcock
DESCRIPTION:
URL:https://www.fordamphitheater.live/event/gavin-adcock/
LOCATION:Ford Amphitheater\, 95 Spectrum Lp\, Colorado Springs\, Colorado\, 80921\, United States
ATTACH;FMTTYPE=image/jpeg:https://www.fordamphitheater.live/wp-content/uploads/2025/04/gavin-adcock-tickets_08-22-25_86_67a0df854e82c.jpg
END:VEVENT
BEGIN:VEVENT
DTSTART;TZID=America/Denver:20250823T200000
DTEND;TZID=America/Denver:20250823T200000
DTSTAMP:20260423T141749
CREATED:20250421T004936Z
LAST-MODIFIED:20250703T203708Z
UID:10000132-1755979200-1755979200@www.fordamphitheater.live
SUMMARY:Chicago
DESCRIPTION:
URL:https://www.fordamphitheater.live/event/chicago/
LOCATION:Ford Amphitheater\, 95 Spectrum Lp\, Colorado Springs\, Colorado\, 80921\, United States
ATTACH;FMTTYPE=image/jpeg:https://www.fordamphitheater.live/wp-content/uploads/2025/04/chicago-tickets_08-23-25_86_67819d6f35c14.jpg
END:VEVENT
BEGIN:VEVENT
DTSTART;TZID=America/Denver:20250830T190000
DTEND;TZID=America/Denver:20250830T190000
DTSTAMP:20260423T141749
CREATED:20250421T004937Z
LAST-MODIFIED:20250804T160304Z
UID:10000133-1756580400-1756580400@www.fordamphitheater.live
SUMMARY:Little Big Town
DESCRIPTION:
URL:https://www.fordamphitheater.live/event/little-big-town/
LOCATION:Ford Amphitheater\, 95 Spectrum Lp\, Colorado Springs\, Colorado\, 80921\, United States
ATTACH;FMTTYPE=image/jpeg:https://www.fordamphitheater.live/wp-content/uploads/2025/04/little-big-town-tickets_08-30-25_86_67f03513f1698.jpg
END:VEVENT
BEGIN:VEVENT
DTSTART;TZID=America/Denver:20250904T200000
DTEND;TZID=America/Denver:20250904T200000
DTSTAMP:20260423T141749
CREATED:20250421T004939Z
LAST-MODIFIED:20250903T225603Z
UID:10000134-1757016000-1757016000@www.fordamphitheater.live
SUMMARY:"Weird Al" Yankovic
DESCRIPTION:TRANSFER DELAY: Fans may begin to transfer tickets 2 weeks prior to day of show \n  \nTICKET LIMIT: There is a 4 ticket limit per household. Orders exceeding this limit may be cancelled without notification \n  \nPRICES: PIT Reserved tickets range from $157.67-$180.85; Lower bowl tickets range $123.72 – $136.45; Upper Bowl tickets are $100.33 and Lawn tickets start at $52.03 including fees (except ordering fee.) \n  \n  \nEach VIP Package includes: \nPost-Show Meet & Greet with Weird Al \nOne (1) Professional Photo with Al* \nOne (1) Personally Autographed Tour Poster \nOne (1) Exclusive Weird Al Blanket \nOne (1) VIP Commemorative Laminate & Lanyard \nEarly Access to the venue \nCrowd-free merchandise shopping prior to the show \n  \n*In addition to your individual photo\, you will also receive an extra\, complimentary photo with all of the guests in your VIP couple or group. \n$239 per  upgrade
URL:https://www.fordamphitheater.live/event/weird-al-yankovic/
LOCATION:Ford Amphitheater\, 95 Spectrum Lp\, Colorado Springs\, Colorado\, 80921\, United States
ATTACH;FMTTYPE=image/jpeg:https://www.fordamphitheater.live/wp-content/uploads/2025/04/weird-al-yankovic-tickets_09-04-25_86_66edd5d1e36f6.jpg
END:VEVENT
BEGIN:VEVENT
DTSTART;TZID=America/Denver:20250906T193000
DTEND;TZID=America/Denver:20250906T193000
DTSTAMP:20260423T141749
CREATED:20250421T004940Z
LAST-MODIFIED:20250804T160304Z
UID:10000135-1757187000-1757187000@www.fordamphitheater.live
SUMMARY:Train
DESCRIPTION:The general admission lawn is currently closed for this event.
URL:https://www.fordamphitheater.live/event/train/
LOCATION:Ford Amphitheater\, 95 Spectrum Lp\, Colorado Springs\, Colorado\, 80921\, United States
ATTACH;FMTTYPE=image/jpeg:https://www.fordamphitheater.live/wp-content/uploads/2025/04/train-tickets_09-06-25_86_67981e83c3fea.jpg
END:VEVENT
BEGIN:VEVENT
DTSTART;TZID=America/Denver:20250912T193000
DTEND;TZID=America/Denver:20250912T193000
DTSTAMP:20260423T141749
CREATED:20250420T004941Z
LAST-MODIFIED:20250904T202118Z
UID:10000136-1757705400-1757705400@www.fordamphitheater.live
SUMMARY:The Red Clay Strays: Get Right Tour
DESCRIPTION:TRANFSFER DELAY:  Fans may begin to transfer tickets 72 hours prior to event \nTICKET LIMIT: There is a 4 ticket limit per household. Orders exceeding this limit may be cancelled without notification
URL:https://www.fordamphitheater.live/event/the-red-clay-strays-get-right-tour/
LOCATION:Ford Amphitheater\, 95 Spectrum Lp\, Colorado Springs\, Colorado\, 80921\, United States
ATTACH;FMTTYPE=image/jpeg:https://www.fordamphitheater.live/wp-content/uploads/2025/04/the-red-clay-strays-get-right-tour-tickets_09-12-25_86_67fe8724ccb55.jpg
END:VEVENT
BEGIN:VEVENT
DTSTART;TZID=America/Denver:20250926T183000
DTEND;TZID=America/Denver:20250926T183000
DTSTAMP:20260423T141749
CREATED:20250721T162137Z
LAST-MODIFIED:20250903T225603Z
UID:10000164-1758911400-1758911400@www.fordamphitheater.live
SUMMARY:Yacht Rock Revue
DESCRIPTION:
URL:https://www.fordamphitheater.live/event/yacht-rock-revue/
LOCATION:Ford Amphitheater\, 95 Spectrum Lp\, Colorado Springs\, Colorado\, 80921\, United States
ATTACH;FMTTYPE=image/jpeg:https://www.fordamphitheater.live/wp-content/uploads/2025/07/yacht-rock-revue-tickets_09-26-25_86_687aaaa742885.jpg
END:VEVENT
BEGIN:VEVENT
DTSTART;TZID=America/Denver:20250928T193000
DTEND;TZID=America/Denver:20250928T193000
DTSTAMP:20260423T141749
CREATED:20250804T160304Z
LAST-MODIFIED:20250903T225634Z
UID:10000165-1759087800-1759087800@www.fordamphitheater.live
SUMMARY:Miranda Lambert
DESCRIPTION:This event is sponsored by the Venu Arts and Culture Foundation\, which will contribute $2.00 from every ticket sold\, benefiting the Air Force Academy Athletic Corporation (“AFAAC”)\, reinforcing VENU’s ongoing commitment to community enrichment through arts\, culture\, and charitable partnerships. Tickets for the concert will be available here on the following schedule: \n  \nMiranda Fan Club Presale – Tuesday\, Aug. 5 at 10:00 AM MST \nFord Amphitheater Fan Club Presale – Wednesday\, Aug. 6 at 10:00 AM MST \nAll Presale Ends – Thursday\, Aug. 7 at 11:59 PM MST \nPublic On Sale – Friday\, Aug. 8 at 10:00 AM MST \n  \n“Getting to partner with the AFAAC on something that brings country music icons and community together means a lot to me. Since I was a kid\, music has shaped my life and being able to use that passion to give back- it just feels right. Miranda Lambert hitting the Ford Amphitheater stage in benefit of the AFAAC and the VENU Foundation- it doesn’t get much better than that. I invite folks to come on out\, not just for the show\, but to support great music with a greater purpose.” said J.W. Roth\, Founder\, Chairman\, and CEO of VENU\, and owner of Ford Amphitheater. \n  \n“The Air Force Academy Athletic Corporation is thankful to partner with the VENU Arts and Culture Foundation on this benefit concert.  Generating financial support for Air Force Academy cadet-athletes is our primary mission and we appreciate the opportunity to use this event to creatively support the future leaders in our Air and Space Forces\,” said Chief Executive Officer- AFAAC\, Dr. Nancy Hixson. “We look forward to welcoming Miranda Lambert to Colorado Springs and Ford Amphitheater on September 28.” \n  \nThe AFAAC helps support United States Air Force Academy athletes with funding across 27 intercollegiate sports. The Venu Arts and Culture Foundation is a non-profit organization committed to enriching local communities through the arts with its mentorship programs\, scholarships\, grants\, community concerts and other fundraising events. Nominated for Pollstar’s 2025 Best New Concert Venue of the Year\, Ford Amphitheater celebrates its one-year anniversary this month.
URL:https://www.fordamphitheater.live/event/miranda-lambert/
LOCATION:Ford Amphitheater\, 95 Spectrum Lp\, Colorado Springs\, Colorado\, 80921\, United States
ATTACH;FMTTYPE=image/jpeg:https://www.fordamphitheater.live/wp-content/uploads/2025/08/9-28-25-1200x622-1.jpg
END:VEVENT
BEGIN:VEVENT
DTSTART;TZID=America/Denver:20251001T200000
DTEND;TZID=America/Denver:20251001T200000
DTSTAMP:20260423T141749
CREATED:20250707T170027Z
LAST-MODIFIED:20250903T225603Z
UID:10000163-1759348800-1759348800@www.fordamphitheater.live
SUMMARY:EMPIRE OF THE SUN
DESCRIPTION:TICKET LIMIT: There is a 6 ticket limit per household. Orders exceeding this limit may be cancelled without notification \nResale of tickets on AXS Resale will not be immediately available for this event
URL:https://www.fordamphitheater.live/event/empire-of-the-sun/
LOCATION:Ford Amphitheater\, 95 Spectrum Lp\, Colorado Springs\, Colorado\, 80921\, United States
ATTACH;FMTTYPE=image/jpeg:https://www.fordamphitheater.live/wp-content/uploads/2025/07/empire-of-the-sun-tickets_10-01-25_86_686bc80700339.jpg
END:VEVENT
BEGIN:VEVENT
DTSTART;TZID=America/Denver:20251012T180000
DTEND;TZID=America/Denver:20251012T180000
DTSTAMP:20260423T141749
CREATED:20250703T205645Z
LAST-MODIFIED:20251007T213613Z
UID:10000162-1760292000-1760292000@www.fordamphitheater.live
SUMMARY:In This Moment
DESCRIPTION:
URL:https://www.fordamphitheater.live/event/in-this-moment/
LOCATION:Ford Amphitheater\, 95 Spectrum Lp\, Colorado Springs\, Colorado\, 80921\, United States
ATTACH;FMTTYPE=image/jpeg:https://www.fordamphitheater.live/wp-content/uploads/2025/07/in-this-moment-tickets_10-12-25_17_685adcd604a2a.jpg
END:VEVENT
BEGIN:VEVENT
DTSTART;TZID=America/Denver:20260514T200000
DTEND;TZID=America/Denver:20260514T200000
DTSTAMP:20260423T141749
CREATED:20260217T150050Z
LAST-MODIFIED:20260227T164506Z
UID:10000173-1778788800-1778788800@www.fordamphitheater.live
SUMMARY:John Mulaney
DESCRIPTION:John Mulaney is a four-time Emmy Award\, Critics Choice award and WGA award-winning writer\, comedian and actor. Most recently\, Mulaney can be seen as the host\, writer and executive producer of his Netflix talk show EVERYBODY’S LIVE WITH JOHN MULANEY. The show serves as the continuation of the series EVERYBODY’S IN LA. The series features monologues\, guests\, pre-taped sketches\, musical segments and more. EVERYBODY’S IN LA\, was a six-night live comedy series that explored Los Angeles during the Netflix Is A Joke Festival in 2024. In December 2024\, Mulaney starred in the Broadway play “All In: Comedy About Love\,” alongside a cast including Fred Armisen\, Richard Kind and Renee Elise Goldsberry. Mulaney is currently on the first leg of his newest stand-up tour\, JOHN MULANEY: MISTER WHATEVER\, performing across North America. Mulaney can next be seen in the Amazon MGM Studios film\, MADDEN\, an upcoming American biographical sports drama directed by David O. Russell.
URL:https://www.fordamphitheater.live/event/john-mulaney/
LOCATION:Ford Amphitheater\, 95 Spectrum Lp\, Colorado Springs\, Colorado\, 80921\, United States
ATTACH;FMTTYPE=image/jpeg:https://www.fordamphitheater.live/wp-content/uploads/2026/02/0514-ColoradoSprings-JohnMulaney-1200x628-1.jpg
END:VEVENT
BEGIN:VEVENT
DTSTART;TZID=America/Denver:20260523T193000
DTEND;TZID=America/Denver:20260523T193000
DTSTAMP:20260423T141749
CREATED:20260311T150443Z
LAST-MODIFIED:20260312T202953Z
UID:10000176-1779564600-1779564600@www.fordamphitheater.live
SUMMARY:Turnpike Troubadours
DESCRIPTION:Turnpike Troubadours are bringing their Wild America Tour to Ford Amphitheater on Saturday\, May 23\, 2026 with Avery Anna and Rattlesnake Milk.
URL:https://www.fordamphitheater.live/event/turnpike-troubadours/
LOCATION:Ford Amphitheater\, 95 Spectrum Lp\, Colorado Springs\, Colorado\, 80921\, United States
ATTACH;FMTTYPE=image/jpeg:https://www.fordamphitheater.live/wp-content/uploads/2026/03/TurnpikeTroubadours_2026_Ford_1200x628.jpg
END:VEVENT
BEGIN:VEVENT
DTSTART;TZID=America/Denver:20260603T180000
DTEND;TZID=America/Denver:20260603T180000
DTSTAMP:20260423T141749
CREATED:20260304T180006Z
LAST-MODIFIED:20260305T170526Z
UID:10000175-1780509600-1780509600@www.fordamphitheater.live
SUMMARY:Alex Warren
DESCRIPTION:
URL:https://www.fordamphitheater.live/event/alex-warren/
LOCATION:Ford Amphitheater\, 95 Spectrum Lp\, Colorado Springs\, Colorado\, 80921\, United States
ATTACH;FMTTYPE=image/jpeg:https://www.fordamphitheater.live/wp-content/uploads/2026/03/AlexWarren_2026_Ford_1200x628.jpg
END:VEVENT
BEGIN:VEVENT
DTSTART;TZID=America/Denver:20260605T193000
DTEND;TZID=America/Denver:20260605T193000
DTSTAMP:20260423T141749
CREATED:20260120T170004Z
LAST-MODIFIED:20260123T155926Z
UID:10000169-1780687800-1780687800@www.fordamphitheater.live
SUMMARY:Yo-Yo Ma
DESCRIPTION:Yo-Yo Ma’s career is testament to his faith in culture’s ability to generate trust and understanding — from his iconic performances and recordings to original undertakings such as the Bach Project and Our Common Nature\, a cultural journey to celebrate the ways that nature can reunite us in pursuit of a shared future. Yo-Yo was born to Chinese parents in Paris\, where he began to study the cello with his father when he was four. Three years later\, he moved with his family to the United States\, where he continued his cello studies before pursuing a liberal arts education.
URL:https://www.fordamphitheater.live/event/yo-yo-ma/
LOCATION:Ford Amphitheater\, 95 Spectrum Lp\, Colorado Springs\, Colorado\, 80921\, United States
ATTACH;FMTTYPE=image/jpeg:https://www.fordamphitheater.live/wp-content/uploads/2026/01/YoYoMa_2026_Ford_1200x628.jpg
END:VEVENT
BEGIN:VEVENT
DTSTART;TZID=America/Denver:20260618T183000
DTEND;TZID=America/Denver:20260618T183000
DTSTAMP:20260423T141749
CREATED:20251209T170015Z
LAST-MODIFIED:20260115T172838Z
UID:10000168-1781807400-1781807400@www.fordamphitheater.live
SUMMARY:O.A.R. Three Decades Tour
DESCRIPTION:For over 25 years\, O.A.R. has embodied the kind of joyfully communal spirit that’s transcendent for both artist and audience alike. Since forming in Maryland in 1996\, the multi-platinum-selling band have merged their musical DNA into a free-flowing sound and exhilarating live show\, repeatedly selling out legendary venues like Madison Square Garden thanks to their massively devoted community of fans. \nFor O.A.R.\, the work of endlessly uplifting their followers is equal parts charmed responsibility and immense privilege—a dynamic that singer/guitarist\, Marc Roberge considers essential to the band’s remarkable longevity. “We’re still always saying to each other\, ‘Can you believe we’re still doing this at this level\, and it’s still this much fun?’” he reveals. “Apart from communicating\, I think the number-one thing you need to keep a band going is really appreciate and find joy in what you do\, and that’s absolutely the case with us. We don’t ever take any of it for granted.”
URL:https://www.fordamphitheater.live/event/o-a-r-three-decades-tour/
LOCATION:Ford Amphitheater\, 95 Spectrum Lp\, Colorado Springs\, Colorado\, 80921\, United States
ATTACH;FMTTYPE=image/jpeg:https://www.fordamphitheater.live/wp-content/uploads/2025/12/OAR_1200x628.jpg
END:VEVENT
BEGIN:VEVENT
DTSTART;TZID=America/Denver:20260627T183000
DTEND;TZID=America/Denver:20260627T183000
DTSTAMP:20260423T141749
CREATED:20260311T160023Z
LAST-MODIFIED:20260312T203010Z
UID:10000177-1782585000-1782585000@www.fordamphitheater.live
SUMMARY:AJR
DESCRIPTION:Re-envisioning what pop can be in the 21st century\, AJR unassumingly emerged as a ubiquitous hitmaking outlier and one of the biggest indie bands in the world. Since 2012\, the multiplatinum indie pop trio—Adam (bass\, vocals)\, Jack (vocals\, guitar) and Ryan (ukulele\, piano\, vocals)—has generated billions of streams and earned one triple-platinum single\, one double-platinum single\, four platinum singles and one platinum album. \n“Neotheater” (2019) marked their biggest first-week debut\, bowing at No. 8 on the Billboard 200\, No. 1 on the top alternative albums chart and No. 1 on the top rock albums chart. Cemented as part of the modern zeitgeist\, Spotify touted “Sober Up” (featuring Rivers Cuomo) among the “best rock songs of the 2010s\,” while Apple Music included “Weak” on its “best alt songs of the 2010s.” They remain one of the 500 most-listened to artists on Spotify. \nOn the heels of “Neotheater\,” they dropped the 2020 platinum blockbuster “BANG!\,” which cracked the top 10 at three radio formats\, peaking at No. 6 on the top 40 chart\, No. 2 on alternative radio and No. 1 on adult pop\, and marked their first top 10 entry on Billboard’s Hot 100. Their latest album\, “The Maybe Man” (AJR Productions/Republic Records)\, was released in 2023. The title character is “a big sad superhero who is always questioning who he is.” Like a giant out of your favorite fairy tale\, emotion hangs over his head\, so it doesn’t have to hang over yours.
URL:https://www.fordamphitheater.live/event/ajr/
LOCATION:Ford Amphitheater\, 95 Spectrum Lp\, Colorado Springs\, Colorado\, 80921\, United States
ATTACH;FMTTYPE=image/webp:https://www.fordamphitheater.live/wp-content/uploads/2026/03/AJR_Ford_1200x628.webp
END:VEVENT
BEGIN:VEVENT
DTSTART;TZID=America/Denver:20260702T183000
DTEND;TZID=America/Denver:20260702T183000
DTSTAMP:20260423T141749
CREATED:20260213T150004Z
LAST-MODIFIED:20260222T160434Z
UID:10000172-1783017000-1783017000@www.fordamphitheater.live
SUMMARY:Dierks Bentley
DESCRIPTION:Country superstar Dierks Bentley brings his dynamic live show to Colorado Springs on July 2 for a night packed with chart-topping hits and undeniable energy. Known for fan favorites like “Drunk on a Plane\,” “Free and Easy\,” “Somewhere on a Beach\,” and “Burning Man\,” Bentley blends modern country with roots-driven grit\, delivering a performance that feels both authentic and unforgettable. \nWith multiple No. 1 singles\, CMA Awards\, and a reputation as one of country music’s most compelling live performers\, Dierks Bentley is a must-see for country fans and live music lovers alike. Don’t miss your chance to experience one of Nashville’s biggest stars live.
URL:https://www.fordamphitheater.live/event/dierks-bentley/
LOCATION:Ford Amphitheater\, 95 Spectrum Lp\, Colorado Springs\, Colorado\, 80921\, United States
ATTACH;FMTTYPE=image/jpeg:https://www.fordamphitheater.live/wp-content/uploads/2026/02/0702-ColoradoSprings-1200x628-1.jpg
END:VEVENT
BEGIN:VEVENT
DTSTART;TZID=America/Denver:20260801T183000
DTEND;TZID=America/Denver:20260801T183000
DTSTAMP:20260423T141749
CREATED:20260128T150206Z
LAST-MODIFIED:20260202T202142Z
UID:10000171-1785609000-1785609000@www.fordamphitheater.live
SUMMARY:The Black Crowes and Whiskey Myers
DESCRIPTION:The Black Crowes and Whiskey Myers are coming to Ford Amphitheater on Saturday\, August 1\, 2026 with special guest Southall for their Southern Hospitality Tour.
URL:https://www.fordamphitheater.live/event/the-black-crowes-and-whiskey-myers/
LOCATION:Ford Amphitheater\, 95 Spectrum Lp\, Colorado Springs\, Colorado\, 80921\, United States
ATTACH;FMTTYPE=image/jpeg:https://www.fordamphitheater.live/wp-content/uploads/2026/01/TBC_WM_Ford_1200x628.jpg
END:VEVENT
END:VCALENDAR