BEGIN:VCALENDAR
VERSION:2.0
PRODID:-//Ford Amphitheater - ECPv6.15.20//NONSGML v1.0//EN
CALSCALE:GREGORIAN
METHOD:PUBLISH
X-WR-CALNAME:Ford Amphitheater
X-ORIGINAL-URL:https://www.fordamphitheater.live
X-WR-CALDESC:Events for Ford Amphitheater
REFRESH-INTERVAL;VALUE=DURATION:PT1H
X-Robots-Tag:noindex
X-PUBLISHED-TTL:PT1H
BEGIN:VTIMEZONE
TZID:America/Denver
BEGIN:DAYLIGHT
TZOFFSETFROM:-0700
TZOFFSETTO:-0600
TZNAME:MDT
DTSTART:20240310T090000
END:DAYLIGHT
BEGIN:STANDARD
TZOFFSETFROM:-0600
TZOFFSETTO:-0700
TZNAME:MST
DTSTART:20241103T080000
END:STANDARD
BEGIN:DAYLIGHT
TZOFFSETFROM:-0700
TZOFFSETTO:-0600
TZNAME:MDT
DTSTART:20250309T090000
END:DAYLIGHT
BEGIN:STANDARD
TZOFFSETFROM:-0600
TZOFFSETTO:-0700
TZNAME:MST
DTSTART:20251102T080000
END:STANDARD
BEGIN:DAYLIGHT
TZOFFSETFROM:-0700
TZOFFSETTO:-0600
TZNAME:MDT
DTSTART:20260308T090000
END:DAYLIGHT
BEGIN:STANDARD
TZOFFSETFROM:-0600
TZOFFSETTO:-0700
TZNAME:MST
DTSTART:20261101T080000
END:STANDARD
END:VTIMEZONE
BEGIN:VEVENT
DTSTART;TZID=America/Denver:20250904T200000
DTEND;TZID=America/Denver:20250904T200000
DTSTAMP:20260423T111253
CREATED:20250421T004939Z
LAST-MODIFIED:20250903T225603Z
UID:10000134-1757016000-1757016000@www.fordamphitheater.live
SUMMARY:"Weird Al" Yankovic
DESCRIPTION:TRANSFER DELAY: Fans may begin to transfer tickets 2 weeks prior to day of show \n  \nTICKET LIMIT: There is a 4 ticket limit per household. Orders exceeding this limit may be cancelled without notification \n  \nPRICES: PIT Reserved tickets range from $157.67-$180.85; Lower bowl tickets range $123.72 – $136.45; Upper Bowl tickets are $100.33 and Lawn tickets start at $52.03 including fees (except ordering fee.) \n  \n  \nEach VIP Package includes: \nPost-Show Meet & Greet with Weird Al \nOne (1) Professional Photo with Al* \nOne (1) Personally Autographed Tour Poster \nOne (1) Exclusive Weird Al Blanket \nOne (1) VIP Commemorative Laminate & Lanyard \nEarly Access to the venue \nCrowd-free merchandise shopping prior to the show \n  \n*In addition to your individual photo\, you will also receive an extra\, complimentary photo with all of the guests in your VIP couple or group. \n$239 per  upgrade
URL:https://www.fordamphitheater.live/event/weird-al-yankovic/
LOCATION:Ford Amphitheater\, 95 Spectrum Lp\, Colorado Springs\, Colorado\, 80921\, United States
ATTACH;FMTTYPE=image/jpeg:https://www.fordamphitheater.live/wp-content/uploads/2025/04/weird-al-yankovic-tickets_09-04-25_86_66edd5d1e36f6.jpg
END:VEVENT
BEGIN:VEVENT
DTSTART;TZID=America/Denver:20250906T193000
DTEND;TZID=America/Denver:20250906T193000
DTSTAMP:20260423T111253
CREATED:20250421T004940Z
LAST-MODIFIED:20250804T160304Z
UID:10000135-1757187000-1757187000@www.fordamphitheater.live
SUMMARY:Train
DESCRIPTION:The general admission lawn is currently closed for this event.
URL:https://www.fordamphitheater.live/event/train/
LOCATION:Ford Amphitheater\, 95 Spectrum Lp\, Colorado Springs\, Colorado\, 80921\, United States
ATTACH;FMTTYPE=image/jpeg:https://www.fordamphitheater.live/wp-content/uploads/2025/04/train-tickets_09-06-25_86_67981e83c3fea.jpg
END:VEVENT
BEGIN:VEVENT
DTSTART;TZID=America/Denver:20250912T193000
DTEND;TZID=America/Denver:20250912T193000
DTSTAMP:20260423T111253
CREATED:20250420T004941Z
LAST-MODIFIED:20250904T202118Z
UID:10000136-1757705400-1757705400@www.fordamphitheater.live
SUMMARY:The Red Clay Strays: Get Right Tour
DESCRIPTION:TRANFSFER DELAY:  Fans may begin to transfer tickets 72 hours prior to event \nTICKET LIMIT: There is a 4 ticket limit per household. Orders exceeding this limit may be cancelled without notification
URL:https://www.fordamphitheater.live/event/the-red-clay-strays-get-right-tour/
LOCATION:Ford Amphitheater\, 95 Spectrum Lp\, Colorado Springs\, Colorado\, 80921\, United States
ATTACH;FMTTYPE=image/jpeg:https://www.fordamphitheater.live/wp-content/uploads/2025/04/the-red-clay-strays-get-right-tour-tickets_09-12-25_86_67fe8724ccb55.jpg
END:VEVENT
BEGIN:VEVENT
DTSTART;TZID=America/Denver:20250926T183000
DTEND;TZID=America/Denver:20250926T183000
DTSTAMP:20260423T111253
CREATED:20250721T162137Z
LAST-MODIFIED:20250903T225603Z
UID:10000164-1758911400-1758911400@www.fordamphitheater.live
SUMMARY:Yacht Rock Revue
DESCRIPTION:
URL:https://www.fordamphitheater.live/event/yacht-rock-revue/
LOCATION:Ford Amphitheater\, 95 Spectrum Lp\, Colorado Springs\, Colorado\, 80921\, United States
ATTACH;FMTTYPE=image/jpeg:https://www.fordamphitheater.live/wp-content/uploads/2025/07/yacht-rock-revue-tickets_09-26-25_86_687aaaa742885.jpg
END:VEVENT
BEGIN:VEVENT
DTSTART;TZID=America/Denver:20250928T193000
DTEND;TZID=America/Denver:20250928T193000
DTSTAMP:20260423T111253
CREATED:20250804T160304Z
LAST-MODIFIED:20250903T225634Z
UID:10000165-1759087800-1759087800@www.fordamphitheater.live
SUMMARY:Miranda Lambert
DESCRIPTION:This event is sponsored by the Venu Arts and Culture Foundation\, which will contribute $2.00 from every ticket sold\, benefiting the Air Force Academy Athletic Corporation (“AFAAC”)\, reinforcing VENU’s ongoing commitment to community enrichment through arts\, culture\, and charitable partnerships. Tickets for the concert will be available here on the following schedule: \n  \nMiranda Fan Club Presale – Tuesday\, Aug. 5 at 10:00 AM MST \nFord Amphitheater Fan Club Presale – Wednesday\, Aug. 6 at 10:00 AM MST \nAll Presale Ends – Thursday\, Aug. 7 at 11:59 PM MST \nPublic On Sale – Friday\, Aug. 8 at 10:00 AM MST \n  \n“Getting to partner with the AFAAC on something that brings country music icons and community together means a lot to me. Since I was a kid\, music has shaped my life and being able to use that passion to give back- it just feels right. Miranda Lambert hitting the Ford Amphitheater stage in benefit of the AFAAC and the VENU Foundation- it doesn’t get much better than that. I invite folks to come on out\, not just for the show\, but to support great music with a greater purpose.” said J.W. Roth\, Founder\, Chairman\, and CEO of VENU\, and owner of Ford Amphitheater. \n  \n“The Air Force Academy Athletic Corporation is thankful to partner with the VENU Arts and Culture Foundation on this benefit concert.  Generating financial support for Air Force Academy cadet-athletes is our primary mission and we appreciate the opportunity to use this event to creatively support the future leaders in our Air and Space Forces\,” said Chief Executive Officer- AFAAC\, Dr. Nancy Hixson. “We look forward to welcoming Miranda Lambert to Colorado Springs and Ford Amphitheater on September 28.” \n  \nThe AFAAC helps support United States Air Force Academy athletes with funding across 27 intercollegiate sports. The Venu Arts and Culture Foundation is a non-profit organization committed to enriching local communities through the arts with its mentorship programs\, scholarships\, grants\, community concerts and other fundraising events. Nominated for Pollstar’s 2025 Best New Concert Venue of the Year\, Ford Amphitheater celebrates its one-year anniversary this month.
URL:https://www.fordamphitheater.live/event/miranda-lambert/
LOCATION:Ford Amphitheater\, 95 Spectrum Lp\, Colorado Springs\, Colorado\, 80921\, United States
ATTACH;FMTTYPE=image/jpeg:https://www.fordamphitheater.live/wp-content/uploads/2025/08/9-28-25-1200x622-1.jpg
END:VEVENT
END:VCALENDAR