BEGIN:VCALENDAR
VERSION:2.0
PRODID:-//Ford Amphitheater - ECPv6.15.20//NONSGML v1.0//EN
CALSCALE:GREGORIAN
METHOD:PUBLISH
X-WR-CALNAME:Ford Amphitheater
X-ORIGINAL-URL:https://www.fordamphitheater.live
X-WR-CALDESC:Events for Ford Amphitheater
REFRESH-INTERVAL;VALUE=DURATION:PT1H
X-Robots-Tag:noindex
X-PUBLISHED-TTL:PT1H
BEGIN:VTIMEZONE
TZID:America/Denver
BEGIN:DAYLIGHT
TZOFFSETFROM:-0700
TZOFFSETTO:-0600
TZNAME:MDT
DTSTART:20250309T090000
END:DAYLIGHT
BEGIN:STANDARD
TZOFFSETFROM:-0600
TZOFFSETTO:-0700
TZNAME:MST
DTSTART:20251102T080000
END:STANDARD
BEGIN:DAYLIGHT
TZOFFSETFROM:-0700
TZOFFSETTO:-0600
TZNAME:MDT
DTSTART:20260308T090000
END:DAYLIGHT
BEGIN:STANDARD
TZOFFSETFROM:-0600
TZOFFSETTO:-0700
TZNAME:MST
DTSTART:20261101T080000
END:STANDARD
BEGIN:DAYLIGHT
TZOFFSETFROM:-0700
TZOFFSETTO:-0600
TZNAME:MDT
DTSTART:20270314T090000
END:DAYLIGHT
BEGIN:STANDARD
TZOFFSETFROM:-0600
TZOFFSETTO:-0700
TZNAME:MST
DTSTART:20271107T080000
END:STANDARD
END:VTIMEZONE
BEGIN:VEVENT
DTSTART;TZID=America/Denver:20260801T183000
DTEND;TZID=America/Denver:20260801T183000
DTSTAMP:20260424T154338
CREATED:20260128T150206Z
LAST-MODIFIED:20260202T202142Z
UID:10000171-1785609000-1785609000@www.fordamphitheater.live
SUMMARY:The Black Crowes and Whiskey Myers
DESCRIPTION:The Black Crowes and Whiskey Myers are coming to Ford Amphitheater on Saturday\, August 1\, 2026 with special guest Southall for their Southern Hospitality Tour.
URL:https://www.fordamphitheater.live/event/the-black-crowes-and-whiskey-myers/
LOCATION:Ford Amphitheater\, 95 Spectrum Lp\, Colorado Springs\, Colorado\, 80921\, United States
ATTACH;FMTTYPE=image/jpeg:https://www.fordamphitheater.live/wp-content/uploads/2026/01/TBC_WM_Ford_1200x628.jpg
END:VEVENT
BEGIN:VEVENT
DTSTART;TZID=America/Denver:20260806T183000
DTEND;TZID=America/Denver:20260806T183000
DTSTAMP:20260424T154338
CREATED:20260224T170006Z
LAST-MODIFIED:20260227T180456Z
UID:10000174-1786041000-1786041000@www.fordamphitheater.live
SUMMARY:Sublime
DESCRIPTION:Sublime were a scruffy band from Long Beach\, California that freely mixed elements of punk rock\, ska\, dancehall reggae\, psychedelic rock and hip-hop together to form their unique musical take on Southern California street and beach culture.
URL:https://www.fordamphitheater.live/event/sublime/
LOCATION:Ford Amphitheater\, 95 Spectrum Lp\, Colorado Springs\, Colorado\, 80921\, United States
ATTACH;FMTTYPE=image/jpeg:https://www.fordamphitheater.live/wp-content/uploads/2026/02/Sublime_2026_Ford_1200x628_SpecialGuests.jpg
END:VEVENT
BEGIN:VEVENT
DTSTART;TZID=America/Denver:20260808T200000
DTEND;TZID=America/Denver:20260808T200000
DTSTAMP:20260424T154338
CREATED:20260126T172754Z
LAST-MODIFIED:20260129T231353Z
UID:10000170-1786219200-1786219200@www.fordamphitheater.live
SUMMARY:Lindsey Stirling
DESCRIPTION:Few artists embody boundless creativity quite like Lindsey Stirling. Not only a multi-award-winning musician known for her genre-bending virtuosity on electronic violin\, she’s endlessly dazzled audiences with her extraordinary talents as a dancer—an element she brings to the stage as part of her spectacular live show\, touring with a stunning frequency and continually selling out iconic venues all around the world. Also\, a New York Times bestselling author (and creator of her own comic book)\, the platinum-selling star felt compelled to push her boundaries even further for her seventh full-length effort\, ultimately embracing a whole new level of freedom in her songwriting. A visionary meditation on inner wisdom\, personal strength\, and the ever-shifting nature of identity\, Duality arrives as Stirling’s most sonically daring and emotionally complex album date. \nMade with producers/co-writers like Graham Muron (Thirty Seconds to Mars\, Skrillex) and Lucky West (Walk the Moon\, Dreamers)\, Duality encompasses a dozen songs showcasing Stirling’s refined musicality and gift for sculpting deeply expressive melodies. But while the album’s first half centers on a grandiose and elaborately composed sound informed by Celtic music and other global influences\, its latter half leans toward a boldly original form of left-of-center pop. To that end\, side A includes such tracks as “Eye Of The Untold Her\,” a gloriously epic piece produced by Mako (a musician/songwriter/producer whose credits include co-producing top-selling releases from video-game giant Riot Games) and co-written with Steve Mazzaro (a composer who’s worked with the legendary Hans Zimmer to arrange and produce the music for the Oscar winner’s world tours). Meanwhile\, side B spotlights Stirling’s pop sensibilities on songs like the luminous “Inner Gold” (featuring alt-pop artist Royal & the Serpent) and “Survive” (on which Walk off the Earth vocalist Sarah Blackwood joins in for an interpolation of Gloria Gaynor’s disco classic “I Will Survive”). \nA profoundly imaginative songwriter whose past work includes such high-concept albums as 2019’s Artemis—a No. 1 on Billboard’s Top Dance/Electronic Albums chart—Stirling makes brilliant use of Duality’s extravagant soundscape by exploring intricate questions of intuition and truth. “I’ve always felt that we’re all magical beings with so much spirit and potential\, but we live in a world of expectations and rules that often makes us feel so constrained\,” Stirling says. “I hope that in some way these songs help people to feel free and empowered and more connected to their truest selves. I’d love to remind everyone that even though the world tries to tame us\, that magic is always there within you.”
URL:https://www.fordamphitheater.live/event/lindsey-stirling/
LOCATION:Ford Amphitheater\, 95 Spectrum Lp\, Colorado Springs\, Colorado\, 80921\, United States
ATTACH;FMTTYPE=image/jpeg:https://www.fordamphitheater.live/wp-content/uploads/2026/01/LindseyStirling_2026_Ford_1200x628.jpg
END:VEVENT
BEGIN:VEVENT
DTSTART;TZID=America/Denver:20260814T193000
DTEND;TZID=America/Denver:20260814T193000
DTSTAMP:20260424T154338
CREATED:20251208T160001Z
LAST-MODIFIED:20260115T172648Z
UID:10000167-1786735800-1786735800@www.fordamphitheater.live
SUMMARY:Alison Krauss & Union Station featuring Jerry Douglas
DESCRIPTION:For nearly four decades\, Alison Krauss & Union Station have upheld their legacy as one of the most influential and widely celebrated acts in bluegrass and roots music. Known for an immaculately crafted but endlessly surprising sound that transcends the boundaries of roots\, country\, rock & roll\, and pop\, Alison Krauss & Union Station have announced a brand new album\, ARCADIA will be released in March 2025 – their first since the 2011 masterpiece Paper Airplane—a critically lauded\, multiple Grammy Award winning LP that debuted at #1 on the Billboard Country\, Bluegrass\, and Folk Album charts. Over the years\, Alison Krauss & Union Station have brought their phenomenal live show to sold-out performances at famed venues like Red Rocks Amphitheatre\, The Greek Theatre\, Radio City Music Hall\, and London’s Royal Festival Hall\, in addition to supporting Paul Simon in Hyde Park for his 2012 Graceland reunion. They now gear up for their first tour together since 2015. \nThe players – Alison Krauss (fiddle\, lead vocal)\, Jerry Douglas (Dobro\, lap steel\, vocals)\, Ron Block (banjo\, guitar)\, Barry Bales (bass\, vocals)\, and welcoming highly acclaimed and celebrated tenor vocalist Russell Moore (guitar\, mandolin\, lead vocal) as the newest member – are five distinct personalities\, each of whom enjoys a flourishing solo career. But when they come together\, they transform into a peerless group of musicians who share a singular focus.
URL:https://www.fordamphitheater.live/event/alison-krauss-union-station-featuring-jerry-douglas/
LOCATION:Ford Amphitheater\, 95 Spectrum Lp\, Colorado Springs\, Colorado\, 80921\, United States
ATTACH;FMTTYPE=image/jpeg:https://www.fordamphitheater.live/wp-content/uploads/2025/12/AllisonKrauss_2026_Ford_1200x628.jpg
END:VEVENT
BEGIN:VEVENT
DTSTART;TZID=America/Denver:20260815T193000
DTEND;TZID=America/Denver:20260815T193000
DTSTAMP:20260424T154338
CREATED:20260402T150145Z
LAST-MODIFIED:20260408T164254Z
UID:10000179-1786822200-1786822200@www.fordamphitheater.live
SUMMARY:Lauren Daigle
DESCRIPTION:Lauren Daigle is a two-time Grammy®\, seven-time Billboard Music Award\, four-time American Music Award\, and ten-time GMA Dove Music Award winner.  She has performed at the Super Bowl (“America the Beautiful” with Trombone Shorty)\, garnered over a billion streams\, and sold-out world tours with performances spanning four continents (North America\, Australia\, Europe\, and Africa). From Carnegie Hall to the New Orleans Jazz Fest and Lollapalooza\, Cape Town to the U.K. and Sydney\, Red Rocks to The Greek Theater and Radio City Music Hall\, Lauren has cemented her status as a modern vocal powerhouse with a global\, ever-growing fanbase.
URL:https://www.fordamphitheater.live/event/lauren-daigle/
LOCATION:Ford Amphitheater\, 95 Spectrum Lp\, Colorado Springs\, Colorado\, 80921\, United States
ATTACH;FMTTYPE=image/jpeg:https://www.fordamphitheater.live/wp-content/uploads/2026/04/LaurenDaigle_2026_Ford_1200x628.jpg
END:VEVENT
BEGIN:VEVENT
DTSTART;TZID=America/Denver:20260829T193000
DTEND;TZID=America/Denver:20260829T193000
DTSTAMP:20260424T154338
CREATED:20260325T130723Z
LAST-MODIFIED:20260402T164047Z
UID:10000178-1788031800-1788031800@www.fordamphitheater.live
SUMMARY:Ty Myers
DESCRIPTION:Ty Myers is bringing The Legal Tour to Ford Amphitheater on Saturday\, August 29\, 2026 with Brent Cobb and Benny G.
URL:https://www.fordamphitheater.live/event/ty-myers/
LOCATION:Ford Amphitheater\, 95 Spectrum Lp\, Colorado Springs\, Colorado\, 80921\, United States
ATTACH;FMTTYPE=image/jpeg:https://www.fordamphitheater.live/wp-content/uploads/2026/03/TyMyers_2026_Ford_1200x628.jpg
END:VEVENT
BEGIN:VEVENT
DTSTART;TZID=America/Denver:20260905T193000
DTEND;TZID=America/Denver:20260905T193000
DTSTAMP:20260424T154338
CREATED:20250610T142850Z
LAST-MODIFIED:20251029T164909Z
UID:10000140-1788636600-1788636600@www.fordamphitheater.live
SUMMARY:Brantley Gilbert
DESCRIPTION:Due to a scheduling conflict\, the Brantley Gilbert concert originally scheduled for October 11th\, 2025 at Ford Amphitheater has been rescheduled to Saturday September 5th\, 2026. Please hold on to your tickets as they will be honored for the reschedule date.  If you are unable to attend the rescheduled date\, please contact point of purchase for more information.
URL:https://www.fordamphitheater.live/event/brantley-gilbert/
LOCATION:Ford Amphitheater\, 95 Spectrum Lp\, Colorado Springs\, Colorado\, 80921\, United States
ATTACH;FMTTYPE=image/jpeg:https://www.fordamphitheater.live/wp-content/uploads/2025/06/brantley-gilbert-tickets_09-05-26_86_68e03e4a5b89c.jpg
END:VEVENT
END:VCALENDAR